BEGIN:VCALENDAR
VERSION:2.0
PRODID:-//Jackson County Rose Festival - ECPv6.6.4.2//NONSGML v1.0//EN
CALSCALE:GREGORIAN
METHOD:PUBLISH
X-WR-CALNAME:Jackson County Rose Festival
X-ORIGINAL-URL:https://jacksonrosefestival.org
X-WR-CALDESC:Events for Jackson County Rose Festival
REFRESH-INTERVAL;VALUE=DURATION:PT1H
X-Robots-Tag:noindex
X-PUBLISHED-TTL:PT1H
BEGIN:VTIMEZONE
TZID:UTC
BEGIN:STANDARD
TZOFFSETFROM:+0000
TZOFFSETTO:+0000
TZNAME:UTC
DTSTART:20180101T000000
END:STANDARD
END:VTIMEZONE
BEGIN:VEVENT
DTSTART;TZID=UTC:20181116T190000
DTEND;TZID=UTC:20181116T210000
DTSTAMP:20260425T064755
CREATED:20181011T174213Z
LAST-MODIFIED:20181011T174213Z
UID:1696-1542394800-1542402000@jacksonrosefestival.org
SUMMARY:Holiday Parade
DESCRIPTION:
URL:https://jacksonrosefestival.org/event/holiday-parade/
LOCATION:Downtown Jackson
CATEGORIES:annual community event
END:VEVENT
END:VCALENDAR